Package: TNBC.CMS Version: 1.19.0 Command: /home/biocbuild/bbs-3.19-bioc/R/bin/R CMD check --install=check:TNBC.CMS.install-out.txt --library=/home/biocbuild/bbs-3.19-bioc/R/site-library --timings TNBC.CMS_1.19.0.tar.gz StartedAt: 2023-12-14 02:37:10 -0500 (Thu, 14 Dec 2023) EndedAt: 2023-12-14 02:42:07 -0500 (Thu, 14 Dec 2023) EllapsedTime: 297.2 seconds RetCode: 0 Status: OK CheckDir: TNBC.CMS.Rcheck Warnings: 0