Package: TNBC.CMS Version: 1.20.0 Command: /home/biocbuild/bbs-3.19-bioc/R/bin/R CMD build --keep-empty-dirs --no-resave-data TNBC.CMS StartedAt: 2024-10-16 21:11:46 -0400 (Wed, 16 Oct 2024) EndedAt: 2024-10-16 21:12:36 -0400 (Wed, 16 Oct 2024) EllapsedTime: 50.1 seconds RetCode: 1 Status: ERROR PackageFile: None PackageFileSize: NA