Package: TNBC.CMS Version: 1.20.0 Command: /Library/Frameworks/R.framework/Resources/bin/R CMD INSTALL TNBC.CMS StartedAt: 2024-10-16 16:46:19 -0400 (Wed, 16 Oct 2024) EndedAt: 2024-10-16 16:47:41 -0400 (Wed, 16 Oct 2024) EllapsedTime: 82.9 seconds RetCode: 0 Status: OK