Package: TNBC.CMS Version: 1.20.0 Command: /Library/Frameworks/R.framework/Resources/bin/R CMD build --keep-empty-dirs --no-resave-data TNBC.CMS StartedAt: 2024-10-17 00:00:29 -0400 (Thu, 17 Oct 2024) EndedAt: 2024-10-17 00:02:33 -0400 (Thu, 17 Oct 2024) EllapsedTime: 124.6 seconds RetCode: 1 Status: ERROR PackageFile: None PackageFileSize: NA