Package: TNBC.CMS Version: 1.20.0 Command: /Library/Frameworks/R.framework/Resources/bin/R CMD INSTALL TNBC.CMS StartedAt: 2024-06-09 15:41:46 -0400 (Sun, 09 Jun 2024) EndedAt: 2024-06-09 15:42:34 -0400 (Sun, 09 Jun 2024) EllapsedTime: 48.1 seconds RetCode: 0 Status: OK