Package: TNBC.CMS Version: 1.20.0 Command: /Library/Frameworks/R.framework/Resources/bin/R CMD INSTALL TNBC.CMS StartedAt: 2024-06-09 17:37:05 -0400 (Sun, 09 Jun 2024) EndedAt: 2024-06-09 17:37:57 -0400 (Sun, 09 Jun 2024) EllapsedTime: 52.1 seconds RetCode: 0 Status: OK