Package: TNBC.CMS Version: 1.20.0 Command: /Library/Frameworks/R.framework/Resources/bin/R CMD build --keep-empty-dirs --no-resave-data TNBC.CMS StartedAt: 2024-10-17 10:45:37 -0400 (Thu, 17 Oct 2024) EndedAt: 2024-10-17 10:46:43 -0400 (Thu, 17 Oct 2024) EllapsedTime: 66.0 seconds RetCode: 1 Status: ERROR PackageFile: None PackageFileSize: NA