Package: TMixClust Version: 1.26.0 Command: rm -rf TMixClust.buildbin-libdir && mkdir TMixClust.buildbin-libdir && E:\biocbuild\bbs-3.19-bioc\R\bin\R.exe CMD INSTALL --build --library=TMixClust.buildbin-libdir TMixClust_1.26.0.tar.gz StartedAt: 2024-10-17 08:47:29 -0400 (Thu, 17 Oct 2024) EndedAt: 2024-10-17 08:47:52 -0400 (Thu, 17 Oct 2024) EllapsedTime: 23.0 seconds RetCode: 0 Status: OK PackageFile: TMixClust_1.26.0.zip PackageFileSize: 746.7 KiB