Package: TMixClust Version: 1.26.0 Command: F:\biocbuild\bbs-3.19-bioc\R\bin\R.exe CMD INSTALL TMixClust StartedAt: 2024-06-26 16:41:18 -0400 (Wed, 26 Jun 2024) EndedAt: 2024-06-26 16:41:29 -0400 (Wed, 26 Jun 2024) EllapsedTime: 10.8 seconds RetCode: 0 Status: OK