Package: TMixClust Version: 1.26.0 Command: rm -rf TMixClust.buildbin-libdir && mkdir TMixClust.buildbin-libdir && F:\biocbuild\bbs-3.19-bioc\R\bin\R.exe CMD INSTALL --build --library=TMixClust.buildbin-libdir TMixClust_1.26.0.tar.gz StartedAt: 2024-06-27 09:03:09 -0400 (Thu, 27 Jun 2024) EndedAt: 2024-06-27 09:03:35 -0400 (Thu, 27 Jun 2024) EllapsedTime: 26.1 seconds RetCode: 0 Status: OK PackageFile: TMixClust_1.26.0.zip PackageFileSize: 745.8 KiB