Package: TMixClust Version: 1.26.0 Command: /home/biocbuild/bbs-3.19-bioc/R/bin/R CMD INSTALL TMixClust StartedAt: 2024-10-16 16:36:44 -0400 (Wed, 16 Oct 2024) EndedAt: 2024-10-16 16:36:50 -0400 (Wed, 16 Oct 2024) EllapsedTime: 5.2 seconds RetCode: 0 Status: OK