Package: TMixClust Version: 1.26.0 Command: /home/biocbuild/bbs-3.19-bioc/R/bin/R CMD build --keep-empty-dirs --no-resave-data TMixClust StartedAt: 2024-10-16 21:11:45 -0400 (Wed, 16 Oct 2024) EndedAt: 2024-10-16 21:12:08 -0400 (Wed, 16 Oct 2024) EllapsedTime: 23.0 seconds RetCode: 0 Status: OK PackageFile: TMixClust_1.26.0.tar.gz PackageFileSize: 509 KiB