Package: TMixClust Version: 1.26.0 Command: rm -rf TMixClust.buildbin-libdir && mkdir TMixClust.buildbin-libdir && /Users/biocbuild/BBS/utils/build-universal.sh TMixClust_1.26.0.tar.gz /Library/Frameworks/R.framework/Resources/bin/R TMixClust.buildbin-libdir StartedAt: 2024-10-17 17:22:02 -0400 (Thu, 17 Oct 2024) EndedAt: 2024-10-17 17:22:16 -0400 (Thu, 17 Oct 2024) EllapsedTime: 13.9 seconds RetCode: 0 Status: OK PackageFile: TMixClust_1.26.0.tgz PackageFileSize: 742.2 KiB