Package: TMixClust Version: 1.26.0 Command: /Library/Frameworks/R.framework/Resources/bin/R CMD INSTALL TMixClust StartedAt: 2024-06-09 17:14:51 -0400 (Sun, 09 Jun 2024) EndedAt: 2024-06-09 17:15:00 -0400 (Sun, 09 Jun 2024) EllapsedTime: 9.8 seconds RetCode: 0 Status: OK