Package: TMixClust Version: 1.26.0 Command: /Library/Frameworks/R.framework/Resources/bin/R CMD build --keep-empty-dirs --no-resave-data TMixClust StartedAt: 2024-06-10 06:00:52 -0400 (Mon, 10 Jun 2024) EndedAt: 2024-06-10 06:01:34 -0400 (Mon, 10 Jun 2024) EllapsedTime: 41.5 seconds RetCode: 1 Status: ERROR PackageFile: None PackageFileSize: NA