Package: TMixClust Version: 1.26.0 Command: /Library/Frameworks/R.framework/Resources/bin/R CMD build --keep-empty-dirs --no-resave-data TMixClust StartedAt: 2024-10-17 10:45:21 -0400 (Thu, 17 Oct 2024) EndedAt: 2024-10-17 10:45:58 -0400 (Thu, 17 Oct 2024) EllapsedTime: 36.6 seconds RetCode: 0 Status: OK PackageFile: TMixClust_1.26.0.tar.gz PackageFileSize: 508.4 KiB