Package: TIN Version: 1.36.0 Command: E:\biocbuild\bbs-3.19-bioc\R\bin\R.exe CMD INSTALL TIN StartedAt: 2024-10-16 16:55:35 -0400 (Wed, 16 Oct 2024) EndedAt: 2024-10-16 16:56:07 -0400 (Wed, 16 Oct 2024) EllapsedTime: 32.3 seconds RetCode: 0 Status: OK