Package: TIN Version: 1.36.0 Command: chmod a+r TIN -R && E:\biocbuild\bbs-3.19-bioc\R\bin\R.exe CMD build --keep-empty-dirs --no-resave-data TIN StartedAt: 2024-10-16 22:21:42 -0400 (Wed, 16 Oct 2024) EndedAt: 2024-10-16 22:22:53 -0400 (Wed, 16 Oct 2024) EllapsedTime: 70.3 seconds RetCode: 0 Status: OK PackageFile: TIN_1.36.0.tar.gz PackageFileSize: 4.589 MiB