Package: TIN Version: 1.36.0 Command: chmod a+r TIN -R && F:\biocbuild\bbs-3.19-bioc\R\bin\R.exe CMD build --keep-empty-dirs --no-resave-data TIN StartedAt: 2024-06-26 22:23:22 -0400 (Wed, 26 Jun 2024) EndedAt: 2024-06-26 22:24:46 -0400 (Wed, 26 Jun 2024) EllapsedTime: 83.9 seconds RetCode: 0 Status: OK PackageFile: TIN_1.36.0.tar.gz PackageFileSize: 4.588 MiB