Package: TIN Version: 1.36.0 Command: rm -rf TIN.buildbin-libdir && mkdir TIN.buildbin-libdir && F:\biocbuild\bbs-3.19-bioc\R\bin\R.exe CMD INSTALL --build --library=TIN.buildbin-libdir TIN_1.36.0.tar.gz StartedAt: 2024-06-27 09:02:58 -0400 (Thu, 27 Jun 2024) EndedAt: 2024-06-27 09:03:42 -0400 (Thu, 27 Jun 2024) EllapsedTime: 44.2 seconds RetCode: 0 Status: OK PackageFile: TIN_1.36.0.zip PackageFileSize: 4.565 MiB