Package: TIN Version: 1.36.0 Command: /home/biocbuild/R/R-beta-2024-04-15_r86425/bin/R CMD check --install=check:TIN.install-out.txt --library=/home/biocbuild/R/R-beta-2024-04-15_r86425/site-library --no-vignettes --timings TIN_1.36.0.tar.gz StartedAt: 2024-05-08 12:44:08 -0000 (Wed, 08 May 2024) EndedAt: 2024-05-08 12:48:21 -0000 (Wed, 08 May 2024) EllapsedTime: 253.5 seconds RetCode: 0 Status: OK CheckDir: TIN.Rcheck Warnings: 0