Package: TIN Version: 1.36.0 Command: /home/biocbuild/R/R-beta-2024-04-15_r86425/bin/R CMD build --keep-empty-dirs --no-resave-data TIN StartedAt: 2024-05-09 04:08:03 -0000 (Thu, 09 May 2024) EndedAt: 2024-05-09 04:09:21 -0000 (Thu, 09 May 2024) EllapsedTime: 78.1 seconds RetCode: 0 Status: OK PackageFile: TIN_1.36.0.tar.gz PackageFileSize: 4.6 MiB