Package: TIN Version: 1.36.0 Command: /Library/Frameworks/R.framework/Resources/bin/R CMD INSTALL TIN StartedAt: 2024-10-16 17:48:20 -0400 (Wed, 16 Oct 2024) EndedAt: 2024-10-16 17:48:45 -0400 (Wed, 16 Oct 2024) EllapsedTime: 25.7 seconds RetCode: 0 Status: OK