Package: TIN Version: 1.36.0 Command: rm -rf TIN.buildbin-libdir && mkdir TIN.buildbin-libdir && /Users/biocbuild/BBS/utils/build-universal.sh TIN_1.36.0.tar.gz /Library/Frameworks/R.framework/Resources/bin/R TIN.buildbin-libdir StartedAt: 2024-10-15 20:38:33 -0400 (Tue, 15 Oct 2024) EndedAt: 2024-10-15 20:39:02 -0400 (Tue, 15 Oct 2024) EllapsedTime: 29.7 seconds RetCode: 0 Status: OK PackageFile: TIN_1.36.0.tgz PackageFileSize: 4.565 MiB