Package: TFutils Version: 1.24.0 Command: chmod a+r TFutils -R && F:\biocbuild\bbs-3.19-bioc\R\bin\R.exe CMD build --keep-empty-dirs --no-resave-data TFutils StartedAt: 2024-06-26 22:21:42 -0400 (Wed, 26 Jun 2024) EndedAt: 2024-06-26 22:23:19 -0400 (Wed, 26 Jun 2024) EllapsedTime: 97.4 seconds RetCode: 0 Status: OK PackageFile: TFutils_1.24.0.tar.gz PackageFileSize: 5.865 MiB