Package: TFutils Version: 1.24.0 Command: /Library/Frameworks/R.framework/Resources/bin/R CMD build --keep-empty-dirs --no-resave-data TFutils StartedAt: 2024-10-17 10:40:01 -0400 (Thu, 17 Oct 2024) EndedAt: 2024-10-17 10:42:13 -0400 (Thu, 17 Oct 2024) EllapsedTime: 131.1 seconds RetCode: 0 Status: OK PackageFile: TFutils_1.24.0.tar.gz PackageFileSize: 6.014 MiB