Package: TFHAZ Version: 1.26.0 Command: F:\biocbuild\bbs-3.19-bioc\R\bin\R.exe CMD INSTALL TFHAZ StartedAt: 2024-06-26 16:14:45 -0400 (Wed, 26 Jun 2024) EndedAt: 2024-06-26 16:15:42 -0400 (Wed, 26 Jun 2024) EllapsedTime: 56.8 seconds RetCode: 0 Status: OK