Package: TFHAZ Version: 1.26.0 Command: rm -rf TFHAZ.buildbin-libdir && mkdir TFHAZ.buildbin-libdir && F:\biocbuild\bbs-3.19-bioc\R\bin\R.exe CMD INSTALL --build --library=TFHAZ.buildbin-libdir TFHAZ_1.26.0.tar.gz StartedAt: 2024-06-27 09:02:26 -0400 (Thu, 27 Jun 2024) EndedAt: 2024-06-27 09:03:38 -0400 (Thu, 27 Jun 2024) EllapsedTime: 72.1 seconds RetCode: 0 Status: OK PackageFile: TFHAZ_1.26.0.zip PackageFileSize: 3.173 MiB