Package: TFHAZ Version: 1.26.0 Command: /home/biocbuild/bbs-3.19-bioc/R/bin/R CMD INSTALL TFHAZ StartedAt: 2024-10-16 16:17:31 -0400 (Wed, 16 Oct 2024) EndedAt: 2024-10-16 16:18:14 -0400 (Wed, 16 Oct 2024) EllapsedTime: 42.2 seconds RetCode: 0 Status: OK