Package: TFHAZ Version: 1.26.0 Command: /Library/Frameworks/R.framework/Resources/bin/R CMD check --install=check:TFHAZ.install-out.txt --library=/Library/Frameworks/R.framework/Resources/library --no-vignettes --timings TFHAZ_1.26.0.tar.gz StartedAt: 2024-10-17 14:19:42 -0400 (Thu, 17 Oct 2024) EndedAt: 2024-10-17 14:30:37 -0400 (Thu, 17 Oct 2024) EllapsedTime: 654.8 seconds RetCode: 0 Status: OK CheckDir: TFHAZ.Rcheck Warnings: 0