Package: TFHAZ Version: 1.26.0 Command: /Library/Frameworks/R.framework/Resources/bin/R CMD check --install=check:TFHAZ.install-out.txt --library=/Library/Frameworks/R.framework/Resources/library --no-vignettes --timings TFHAZ_1.26.0.tar.gz StartedAt: 2024-10-18 15:03:11 -0400 (Fri, 18 Oct 2024) EndedAt: 2024-10-18 15:09:05 -0400 (Fri, 18 Oct 2024) EllapsedTime: 353.5 seconds RetCode: 0 Status: OK CheckDir: TFHAZ.Rcheck Warnings: 0