Package: TFEA.ChIP Version: 1.24.0 Command: E:\biocbuild\bbs-3.19-bioc\R\bin\R.exe CMD INSTALL TFEA.ChIP StartedAt: 2024-10-16 16:43:14 -0400 (Wed, 16 Oct 2024) EndedAt: 2024-10-16 16:44:02 -0400 (Wed, 16 Oct 2024) EllapsedTime: 48.0 seconds RetCode: 0 Status: OK