Package: TFEA.ChIP Version: 1.24.0 Command: rm -rf TFEA.ChIP.buildbin-libdir && mkdir TFEA.ChIP.buildbin-libdir && E:\biocbuild\bbs-3.19-bioc\R\bin\R.exe CMD INSTALL --build --library=TFEA.ChIP.buildbin-libdir TFEA.ChIP_1.24.0.tar.gz StartedAt: 2024-10-17 08:46:40 -0400 (Thu, 17 Oct 2024) EndedAt: 2024-10-17 08:47:22 -0400 (Thu, 17 Oct 2024) EllapsedTime: 41.8 seconds RetCode: 0 Status: OK PackageFile: TFEA.ChIP_1.24.0.zip PackageFileSize: 5.21 MiB