Package: TFEA.ChIP Version: 1.24.0 Command: /Library/Frameworks/R.framework/Resources/bin/R CMD build --keep-empty-dirs --no-resave-data TFEA.ChIP StartedAt: 2024-10-17 10:39:15 -0400 (Thu, 17 Oct 2024) EndedAt: 2024-10-17 10:41:15 -0400 (Thu, 17 Oct 2024) EllapsedTime: 119.7 seconds RetCode: 0 Status: OK PackageFile: TFEA.ChIP_1.24.0.tar.gz PackageFileSize: 5.26 MiB