Package: TFBSTools Version: 1.42.0 Command: rm -rf TFBSTools.buildbin-libdir && mkdir TFBSTools.buildbin-libdir && E:\biocbuild\bbs-3.19-bioc\R\bin\R.exe CMD INSTALL --build --library=TFBSTools.buildbin-libdir TFBSTools_1.42.0.tar.gz StartedAt: 2024-10-17 08:46:38 -0400 (Thu, 17 Oct 2024) EndedAt: 2024-10-17 08:48:29 -0400 (Thu, 17 Oct 2024) EllapsedTime: 110.1 seconds RetCode: 0 Status: OK PackageFile: TFBSTools_1.42.0.zip PackageFileSize: 1.588 MiB