Package: TFBSTools Version: 1.42.0 Command: rm -rf TFBSTools.buildbin-libdir && mkdir TFBSTools.buildbin-libdir && F:\biocbuild\bbs-3.19-bioc\R\bin\R.exe CMD INSTALL --build --library=TFBSTools.buildbin-libdir TFBSTools_1.42.0.tar.gz StartedAt: 2024-06-27 09:02:22 -0400 (Thu, 27 Jun 2024) EndedAt: 2024-06-27 09:03:36 -0400 (Thu, 27 Jun 2024) EllapsedTime: 74.9 seconds RetCode: 0 Status: OK PackageFile: TFBSTools_1.42.0.zip PackageFileSize: 1.588 MiB