Package: TFBSTools Version: 1.42.0 Command: /home/biocbuild/R/R-beta-2024-04-15_r86425/bin/R CMD check --install=check:TFBSTools.install-out.txt --library=/home/biocbuild/R/R-beta-2024-04-15_r86425/site-library --no-vignettes --timings TFBSTools_1.42.0.tar.gz StartedAt: 2024-05-08 12:39:38 -0000 (Wed, 08 May 2024) EndedAt: 2024-05-08 12:48:18 -0000 (Wed, 08 May 2024) EllapsedTime: 519.9 seconds RetCode: 0 Status: OK CheckDir: TFBSTools.Rcheck Warnings: 0