Package: TFBSTools Version: 1.42.0 Command: /Library/Frameworks/R.framework/Resources/bin/R CMD build --keep-empty-dirs --no-resave-data TFBSTools StartedAt: 2024-06-10 05:55:36 -0400 (Mon, 10 Jun 2024) EndedAt: 2024-06-10 05:57:48 -0400 (Mon, 10 Jun 2024) EllapsedTime: 132.3 seconds RetCode: 0 Status: OK PackageFile: TFBSTools_1.42.0.tar.gz PackageFileSize: 1.044 MiB