Package: TFARM Version: 1.26.0 Command: rm -rf TFARM.buildbin-libdir && mkdir TFARM.buildbin-libdir && E:\biocbuild\bbs-3.19-bioc\R\bin\R.exe CMD INSTALL --build --library=TFARM.buildbin-libdir TFARM_1.26.0.tar.gz StartedAt: 2024-10-17 08:46:37 -0400 (Thu, 17 Oct 2024) EndedAt: 2024-10-17 08:47:05 -0400 (Thu, 17 Oct 2024) EllapsedTime: 28.3 seconds RetCode: 0 Status: OK PackageFile: TFARM_1.26.0.zip PackageFileSize: 538.7 KiB