Package: TFARM Version: 1.26.0 Command: chmod a+r TFARM -R && F:\biocbuild\bbs-3.19-bioc\R\bin\R.exe CMD build --keep-empty-dirs --no-resave-data TFARM StartedAt: 2024-06-26 22:21:23 -0400 (Wed, 26 Jun 2024) EndedAt: 2024-06-26 22:24:12 -0400 (Wed, 26 Jun 2024) EllapsedTime: 169.5 seconds RetCode: 0 Status: OK PackageFile: TFARM_1.26.0.tar.gz PackageFileSize: 471.5 KiB