Package: TFARM Version: 1.26.0 Command: rm -rf TFARM.buildbin-libdir && mkdir TFARM.buildbin-libdir && F:\biocbuild\bbs-3.19-bioc\R\bin\R.exe CMD INSTALL --build --library=TFARM.buildbin-libdir TFARM_1.26.0.tar.gz StartedAt: 2024-06-27 09:02:20 -0400 (Thu, 27 Jun 2024) EndedAt: 2024-06-27 09:02:54 -0400 (Thu, 27 Jun 2024) EllapsedTime: 34.1 seconds RetCode: 0 Status: OK PackageFile: TFARM_1.26.0.zip PackageFileSize: 536.8 KiB