Package: TFARM Version: 1.26.0 Command: /home/biocbuild/bbs-3.19-bioc/R/bin/R CMD build --keep-empty-dirs --no-resave-data TFARM StartedAt: 2024-10-16 21:09:26 -0400 (Wed, 16 Oct 2024) EndedAt: 2024-10-16 21:11:26 -0400 (Wed, 16 Oct 2024) EllapsedTime: 120.2 seconds RetCode: 0 Status: OK PackageFile: TFARM_1.26.0.tar.gz PackageFileSize: 471 KiB