Package: TFARM Version: 1.26.0 Command: /Library/Frameworks/R.framework/Resources/bin/R CMD build --keep-empty-dirs --no-resave-data TFARM StartedAt: 2024-10-16 23:56:32 -0400 (Wed, 16 Oct 2024) EndedAt: 2024-10-17 00:00:54 -0400 (Thu, 17 Oct 2024) EllapsedTime: 262.2 seconds RetCode: 0 Status: OK PackageFile: TFARM_1.26.0.tar.gz PackageFileSize: 471.1 KiB