Package: TFARM Version: 1.26.0 Command: /Library/Frameworks/R.framework/Resources/bin/R CMD build --keep-empty-dirs --no-resave-data TFARM StartedAt: 2024-06-09 18:25:16 -0400 (Sun, 09 Jun 2024) EndedAt: 2024-06-09 18:26:58 -0400 (Sun, 09 Jun 2024) EllapsedTime: 101.4 seconds RetCode: 1 Status: ERROR PackageFile: None PackageFileSize: NA