Package: TFARM Version: 1.26.0 Command: rm -rf TFARM.buildbin-libdir && mkdir TFARM.buildbin-libdir && /Users/biocbuild/BBS/utils/build-universal.sh TFARM_1.26.0.tar.gz /Library/Frameworks/R.framework/Resources/bin/R TFARM.buildbin-libdir StartedAt: 2024-05-27 02:05:20 -0400 (Mon, 27 May 2024) EndedAt: 2024-05-27 02:05:45 -0400 (Mon, 27 May 2024) EllapsedTime: 25.3 seconds RetCode: 0 Status: OK PackageFile: TFARM_1.26.0.tgz PackageFileSize: 535.1 KiB