Package: TFARM Version: 1.26.0 Command: /home/biocbuild/R/R-beta-2024-04-15_r86425/bin/R CMD build --keep-empty-dirs --no-resave-data TFARM StartedAt: 2024-05-09 04:05:11 -0000 (Thu, 09 May 2024) EndedAt: 2024-05-09 04:07:29 -0000 (Thu, 09 May 2024) EllapsedTime: 138.2 seconds RetCode: 0 Status: OK PackageFile: TFARM_1.26.0.tar.gz PackageFileSize: 428.6 KiB