Package: TEQC Version: 4.26.0 Command: E:\biocbuild\bbs-3.19-bioc\R\bin\R.exe CMD check --no-multiarch --install=check:TEQC.install-out.txt --library=E:\biocbuild\bbs-3.19-bioc\R\library --no-vignettes --timings TEQC_4.26.0.tar.gz StartedAt: 2024-10-17 06:27:24 -0400 (Thu, 17 Oct 2024) EndedAt: 2024-10-17 06:29:23 -0400 (Thu, 17 Oct 2024) EllapsedTime: 119.1 seconds RetCode: 0 Status: WARNINGS CheckDir: TEQC.Rcheck Warnings: 1