Package: TEQC Version: 4.26.0 Command: chmod a+r TEQC -R && E:\biocbuild\bbs-3.19-bioc\R\bin\R.exe CMD build --keep-empty-dirs --no-resave-data TEQC StartedAt: 2024-10-16 22:19:15 -0400 (Wed, 16 Oct 2024) EndedAt: 2024-10-16 22:19:54 -0400 (Wed, 16 Oct 2024) EllapsedTime: 38.2 seconds RetCode: 0 Status: OK PackageFile: TEQC_4.26.0.tar.gz PackageFileSize: 510.7 KiB