Package: TEQC Version: 4.26.0 Command: rm -rf TEQC.buildbin-libdir && mkdir TEQC.buildbin-libdir && E:\biocbuild\bbs-3.19-bioc\R\bin\R.exe CMD INSTALL --build --library=TEQC.buildbin-libdir TEQC_4.26.0.tar.gz StartedAt: 2024-10-17 08:46:20 -0400 (Thu, 17 Oct 2024) EndedAt: 2024-10-17 08:46:42 -0400 (Thu, 17 Oct 2024) EllapsedTime: 22.0 seconds RetCode: 0 Status: OK PackageFile: TEQC_4.26.0.zip PackageFileSize: 667.8 KiB