Package: TEQC Version: 4.26.0 Command: rm -rf TEQC.buildbin-libdir && mkdir TEQC.buildbin-libdir && /Users/biocbuild/BBS/utils/build-universal.sh TEQC_4.26.0.tar.gz /Library/Frameworks/R.framework/Resources/bin/R TEQC.buildbin-libdir StartedAt: 2024-10-17 17:20:44 -0400 (Thu, 17 Oct 2024) EndedAt: 2024-10-17 17:21:18 -0400 (Thu, 17 Oct 2024) EllapsedTime: 34.3 seconds RetCode: 0 Status: OK PackageFile: TEQC_4.26.0.tgz PackageFileSize: 788.2 KiB